BEGIN:VCALENDAR
VERSION:2.0
METHOD:PUBLISH
PRODID:-//Agenda.ad//NONSGML v1.0//EN
BEGIN:VEVENT
CLASS:PUBLIC
UID:10f2a51eb15a805bf1236c7e5d97aea1@agenda.ad
DTSTAMP:20260419T174437Z
DTSTART:20260325T230000Z
DTEND:20260325T230000Z
SUMMARY:<h1 class="documentFirstHeading">Dia Mundial de la Poesia: Espectacle "Pompeu Fabra: Jugada mestra!" d'&Ograve;scar Intente</h1>
<div>&nbsp;</div>
<div id="viewlet-below-content-title">&nbsp;</div>
DESCRIPTION:\n\nMés informació\nhttps://www.agenda.ad/activitat/encamp
 /teatre-i-dansa/espectacle-pompeu-fabra-jugada-mestra!-d-osc
 ar-intente- - \n
LOCATION:Sala de festes del Complex Esportiu i Sociocultural d'Encamp
SEQUENCE:0
TRANSP:OPAQUE
X-ALT-DESC;FMTTYPE=text/html:<!DOCTYPE HTML PUBLIC "-//W3C//DTD HTML 3.2//EN"><HTML><HEAD
 ><TITLE></TITLE></HEAD><BODY><FONT FACE="Arial" SIZE=2><br/>
 <br/><b>Més informació</b><br/><a href="https://www.agenda
 .ad/activitat/encamp/teatre-i-dansa/espectacle-pompeu-fabra-
 jugada-mestra!-d-oscar-intente- - ">https://www.agenda.ad/
 activitat/encamp/teatre-i-dansa/espectacle-pompeu-fabra-juga
 da-mestra!-d-oscar-intente- - </a><br/></FONT></BODY></HTM
 L>
END:VEVENT
END:VCALENDAR